Package: cydar Version: 1.28.0 Command: /Library/Frameworks/R.framework/Resources/bin/R CMD build --keep-empty-dirs --no-resave-data cydar StartedAt: 2024-10-16 18:23:47 -0400 (Wed, 16 Oct 2024) EndedAt: 2024-10-16 18:26:25 -0400 (Wed, 16 Oct 2024) EllapsedTime: 158.4 seconds RetCode: 0 Status: OK PackageFile: cydar_1.28.0.tar.gz PackageFileSize: 743.7 KiB