Package: cydar Version: 1.28.0 Command: /home/biocbuild/bbs-3.19-bioc/R/bin/R CMD build --keep-empty-dirs --no-resave-data cydar StartedAt: 2024-10-16 18:02:23 -0400 (Wed, 16 Oct 2024) EndedAt: 2024-10-16 18:03:30 -0400 (Wed, 16 Oct 2024) EllapsedTime: 67.1 seconds RetCode: 0 Status: OK PackageFile: cydar_1.28.0.tar.gz PackageFileSize: 469.5 KiB