Package: cydar Version: 1.28.0 Command: rm -rf cydar.buildbin-libdir && mkdir cydar.buildbin-libdir && F:\biocbuild\bbs-3.19-bioc\R\bin\R.exe CMD INSTALL --build --library=cydar.buildbin-libdir cydar_1.28.0.tar.gz StartedAt: 2024-06-27 08:04:12 -0400 (Thu, 27 Jun 2024) EndedAt: 2024-06-27 08:05:31 -0400 (Thu, 27 Jun 2024) EllapsedTime: 78.5 seconds RetCode: 0 Status: OK PackageFile: cydar_1.28.0.zip PackageFileSize: 1.412 MiB