Package: cydar Version: 1.28.0 Command: rm -rf cydar.buildbin-libdir && mkdir cydar.buildbin-libdir && E:\biocbuild\bbs-3.19-bioc\R\bin\R.exe CMD INSTALL --build --library=cydar.buildbin-libdir cydar_1.28.0.tar.gz StartedAt: 2024-10-17 07:37:37 -0400 (Thu, 17 Oct 2024) EndedAt: 2024-10-17 07:38:41 -0400 (Thu, 17 Oct 2024) EllapsedTime: 63.5 seconds RetCode: 0 Status: OK PackageFile: cydar_1.28.0.zip PackageFileSize: 1.411 MiB