Package: cydar Version: 1.28.0 Command: E:\biocbuild\bbs-3.19-bioc\R\bin\R.exe CMD INSTALL cydar StartedAt: 2024-10-16 16:40:22 -0400 (Wed, 16 Oct 2024) EndedAt: 2024-10-16 16:41:24 -0400 (Wed, 16 Oct 2024) EllapsedTime: 62.6 seconds RetCode: 0 Status: OK