Package: cypress Version: 1.0.0 Command: /home/biocbuild/bbs-3.19-bioc/R/bin/R CMD INSTALL cypress StartedAt: 2024-10-16 16:36:54 -0400 (Wed, 16 Oct 2024) EndedAt: 2024-10-16 16:37:21 -0400 (Wed, 16 Oct 2024) EllapsedTime: 27.3 seconds RetCode: 0 Status: OK