Package: cypress Version: 1.0.0 Command: chmod a+r cypress -R && E:\biocbuild\bbs-3.19-bioc\R\bin\R.exe CMD build --keep-empty-dirs --no-resave-data cypress StartedAt: 2024-10-16 18:29:23 -0400 (Wed, 16 Oct 2024) EndedAt: 2024-10-16 18:36:31 -0400 (Wed, 16 Oct 2024) EllapsedTime: 428.0 seconds RetCode: 0 Status: OK PackageFile: cypress_1.0.0.tar.gz PackageFileSize: 1.996 MiB