Package: cytoKernel Version: 1.10.0 Command: rm -rf cytoKernel.buildbin-libdir && mkdir cytoKernel.buildbin-libdir && /Users/biocbuild/BBS/utils/build-universal.sh cytoKernel_1.10.0.tar.gz /Library/Frameworks/R.framework/Resources/bin/R cytoKernel.buildbin-libdir StartedAt: 2024-06-11 10:49:23 -0400 (Tue, 11 Jun 2024) EndedAt: 2024-06-11 10:50:27 -0400 (Tue, 11 Jun 2024) EllapsedTime: 63.4 seconds RetCode: 0 Status: OK PackageFile: cytoKernel_1.10.0.tgz PackageFileSize: 835.1 KiB