Package: cytoKernel Version: 1.10.0 Command: /Library/Frameworks/R.framework/Resources/bin/R CMD build --keep-empty-dirs --no-resave-data cytoKernel StartedAt: 2024-06-09 20:11:09 -0400 (Sun, 09 Jun 2024) EndedAt: 2024-06-09 20:12:29 -0400 (Sun, 09 Jun 2024) EllapsedTime: 80.5 seconds RetCode: 0 Status: OK PackageFile: cytoKernel_1.10.0.tar.gz PackageFileSize: 705.4 KiB