Package: cytoKernel Version: 1.10.0 Command: /Library/Frameworks/R.framework/Resources/bin/R CMD build --keep-empty-dirs --no-resave-data cytoKernel StartedAt: 2024-10-16 18:24:45 -0400 (Wed, 16 Oct 2024) EndedAt: 2024-10-16 18:26:34 -0400 (Wed, 16 Oct 2024) EllapsedTime: 109.4 seconds RetCode: 0 Status: OK PackageFile: cytoKernel_1.10.0.tar.gz PackageFileSize: 706.1 KiB