Package: cytoKernel Version: 1.10.0 Command: chmod a+r cytoKernel -R && E:\biocbuild\bbs-3.19-bioc\R\bin\R.exe CMD build --keep-empty-dirs --no-resave-data cytoKernel StartedAt: 2024-10-16 18:30:02 -0400 (Wed, 16 Oct 2024) EndedAt: 2024-10-16 18:31:00 -0400 (Wed, 16 Oct 2024) EllapsedTime: 58.7 seconds RetCode: 0 Status: OK PackageFile: cytoKernel_1.10.0.tar.gz PackageFileSize: 660.8 KiB