Package: cytofQC Version: 1.4.0 Command: rm -rf cytofQC.buildbin-libdir && mkdir cytofQC.buildbin-libdir && E:\biocbuild\bbs-3.19-bioc\R\bin\R.exe CMD INSTALL --build --library=cytofQC.buildbin-libdir cytofQC_1.4.0.tar.gz StartedAt: 2024-10-17 07:37:45 -0400 (Thu, 17 Oct 2024) EndedAt: 2024-10-17 07:38:26 -0400 (Thu, 17 Oct 2024) EllapsedTime: 40.8 seconds RetCode: 0 Status: OK PackageFile: cytofQC_1.4.0.zip PackageFileSize: 1.342 MiB