Package: cytomapper Version: 1.16.0 Command: rm -rf cytomapper.buildbin-libdir && mkdir cytomapper.buildbin-libdir && /Users/biocbuild/BBS/utils/build-universal.sh cytomapper_1.16.0.tar.gz /Library/Frameworks/R.framework/Resources/bin/R cytomapper.buildbin-libdir StartedAt: 2024-10-18 18:03:23 -0400 (Fri, 18 Oct 2024) EndedAt: 2024-10-18 18:04:44 -0400 (Fri, 18 Oct 2024) EllapsedTime: 80.4 seconds RetCode: 0 Status: OK PackageFile: cytomapper_1.16.0.tgz PackageFileSize: 5.434 MiB