Package: cytomapper Version: 1.16.0 Command: /Library/Frameworks/R.framework/Resources/bin/R CMD check --install=check:cytomapper.install-out.txt --library=/Library/Frameworks/R.framework/Resources/library --no-vignettes --timings cytomapper_1.16.0.tar.gz StartedAt: 2024-06-10 12:43:24 -0400 (Mon, 10 Jun 2024) EndedAt: 2024-06-10 13:11:56 -0400 (Mon, 10 Jun 2024) EllapsedTime: 1712.0 seconds RetCode: 0 Status: OK CheckDir: cytomapper.Rcheck Warnings: 0