Package: cytomapper Version: 1.16.0 Command: /home/biocbuild/R/R-beta-2024-04-15_r86425/bin/R CMD build --keep-empty-dirs --no-resave-data cytomapper StartedAt: 2024-05-08 23:41:30 -0000 (Wed, 08 May 2024) EndedAt: 2024-05-08 23:43:48 -0000 (Wed, 08 May 2024) EllapsedTime: 138.2 seconds RetCode: 0 Status: OK PackageFile: cytomapper_1.16.0.tar.gz PackageFileSize: 19.84 MiB