Package: cytomapper Version: 1.16.0 Command: /Library/Frameworks/R.framework/Resources/bin/R CMD INSTALL cytomapper StartedAt: 2024-10-16 16:13:32 -0400 (Wed, 16 Oct 2024) EndedAt: 2024-10-16 16:15:46 -0400 (Wed, 16 Oct 2024) EllapsedTime: 134.1 seconds RetCode: 0 Status: OK