Package: cytomapper Version: 1.16.0 Command: /home/biocbuild/bbs-3.19-bioc/R/bin/R CMD check --install=check:cytomapper.install-out.txt --library=/home/biocbuild/bbs-3.19-bioc/R/site-library --timings cytomapper_1.16.0.tar.gz StartedAt: 2024-10-16 23:23:40 -0400 (Wed, 16 Oct 2024) EndedAt: 2024-10-16 23:40:34 -0400 (Wed, 16 Oct 2024) EllapsedTime: 1014.0 seconds RetCode: 0 Status: OK CheckDir: cytomapper.Rcheck Warnings: 0