Package: cytomapper Version: 1.16.0 Command: /home/biocbuild/bbs-3.19-bioc/R/bin/R CMD INSTALL cytomapper StartedAt: 2024-10-16 16:27:00 -0400 (Wed, 16 Oct 2024) EndedAt: 2024-10-16 16:27:52 -0400 (Wed, 16 Oct 2024) EllapsedTime: 51.7 seconds RetCode: 0 Status: OK