Package: cytomapper Version: 1.16.0 Command: rm -rf cytomapper.buildbin-libdir && mkdir cytomapper.buildbin-libdir && E:\biocbuild\bbs-3.19-bioc\R\bin\R.exe CMD INSTALL --build --library=cytomapper.buildbin-libdir cytomapper_1.16.0.tar.gz StartedAt: 2024-10-17 07:37:53 -0400 (Thu, 17 Oct 2024) EndedAt: 2024-10-17 07:40:05 -0400 (Thu, 17 Oct 2024) EllapsedTime: 132.4 seconds RetCode: 0 Status: OK PackageFile: cytomapper_1.16.0.zip PackageFileSize: 4.86 MiB