Package: cytomapper Version: 1.16.0 Command: E:\biocbuild\bbs-3.19-bioc\R\bin\R.exe CMD check --no-multiarch --install=check:cytomapper.install-out.txt --library=E:\biocbuild\bbs-3.19-bioc\R\library --no-vignettes --timings cytomapper_1.16.0.tar.gz StartedAt: 2024-10-17 00:32:40 -0400 (Thu, 17 Oct 2024) EndedAt: 2024-10-17 00:57:47 -0400 (Thu, 17 Oct 2024) EllapsedTime: 1506.7 seconds RetCode: 0 Status: OK CheckDir: cytomapper.Rcheck Warnings: 0