Package: cytomapper Version: 1.16.0 Command: E:\biocbuild\bbs-3.19-bioc\R\bin\R.exe CMD INSTALL cytomapper StartedAt: 2024-10-16 16:54:38 -0400 (Wed, 16 Oct 2024) EndedAt: 2024-10-16 16:56:04 -0400 (Wed, 16 Oct 2024) EllapsedTime: 85.9 seconds RetCode: 0 Status: OK