Package: daMA Version: 1.76.0 Command: rm -rf daMA.buildbin-libdir && mkdir daMA.buildbin-libdir && E:\biocbuild\bbs-3.19-bioc\R\bin\R.exe CMD INSTALL --build --library=daMA.buildbin-libdir daMA_1.76.0.tar.gz StartedAt: 2024-10-17 07:38:27 -0400 (Thu, 17 Oct 2024) EndedAt: 2024-10-17 07:38:38 -0400 (Thu, 17 Oct 2024) EllapsedTime: 11.0 seconds RetCode: 0 Status: OK PackageFile: daMA_1.76.0.zip PackageFileSize: 4.061 MiB