Package: dada2 Version: 1.32.0 Command: rm -rf dada2.buildbin-libdir && mkdir dada2.buildbin-libdir && /Users/biocbuild/BBS/utils/build-universal.sh dada2_1.32.0.tar.gz /Library/Frameworks/R.framework/Resources/bin/R dada2.buildbin-libdir StartedAt: 2024-10-18 18:04:18 -0400 (Fri, 18 Oct 2024) EndedAt: 2024-10-18 18:06:09 -0400 (Fri, 18 Oct 2024) EllapsedTime: 110.9 seconds RetCode: 0 Status: OK PackageFile: dada2_1.32.0.tgz PackageFileSize: 3.351 MiB