Package: dada2 Version: 1.32.0 Command: /Library/Frameworks/R.framework/Resources/bin/R CMD INSTALL dada2 StartedAt: 2024-10-16 16:51:22 -0400 (Wed, 16 Oct 2024) EndedAt: 2024-10-16 16:52:49 -0400 (Wed, 16 Oct 2024) EllapsedTime: 87.5 seconds RetCode: 0 Status: OK