Package: dada2 Version: 1.32.0 Command: /home/biocbuild/R/R-beta-2024-04-15_r86425/bin/R CMD build --keep-empty-dirs --no-resave-data dada2 StartedAt: 2024-05-08 23:42:42 -0000 (Wed, 08 May 2024) EndedAt: 2024-05-08 23:45:58 -0000 (Wed, 08 May 2024) EllapsedTime: 196.3 seconds RetCode: 0 Status: OK PackageFile: dada2_1.32.0.tar.gz PackageFileSize: 2.594 MiB