Package: dada2 Version: 1.32.0 Command: /home/biocbuild/bbs-3.19-bioc/R/bin/R CMD check --install=check:dada2.install-out.txt --library=/home/biocbuild/bbs-3.19-bioc/R/site-library --timings dada2_1.32.0.tar.gz StartedAt: 2024-10-16 23:27:07 -0400 (Wed, 16 Oct 2024) EndedAt: 2024-10-16 23:31:51 -0400 (Wed, 16 Oct 2024) EllapsedTime: 284.6 seconds RetCode: 0 Status: WARNINGS CheckDir: dada2.Rcheck Warnings: 1