Package: dada2 Version: 1.32.0 Command: /home/biocbuild/bbs-3.19-bioc/R/bin/R CMD INSTALL dada2 StartedAt: 2024-10-16 16:11:50 -0400 (Wed, 16 Oct 2024) EndedAt: 2024-10-16 16:13:11 -0400 (Wed, 16 Oct 2024) EllapsedTime: 81.1 seconds RetCode: 0 Status: OK