Package: dada2 Version: 1.32.0 Command: rm -rf dada2.buildbin-libdir && mkdir dada2.buildbin-libdir && E:\biocbuild\bbs-3.19-bioc\R\bin\R.exe CMD INSTALL --build --library=dada2.buildbin-libdir dada2_1.32.0.tar.gz StartedAt: 2024-10-17 07:38:23 -0400 (Thu, 17 Oct 2024) EndedAt: 2024-10-17 07:40:13 -0400 (Thu, 17 Oct 2024) EllapsedTime: 110.1 seconds RetCode: 0 Status: OK PackageFile: dada2_1.32.0.zip PackageFileSize: 3.394 MiB