Package: dada2 Version: 1.32.0 Command: chmod a+r dada2 -R && E:\biocbuild\bbs-3.19-bioc\R\bin\R.exe CMD build --keep-empty-dirs --no-resave-data dada2 StartedAt: 2024-10-16 18:31:01 -0400 (Wed, 16 Oct 2024) EndedAt: 2024-10-16 18:33:37 -0400 (Wed, 16 Oct 2024) EllapsedTime: 155.3 seconds RetCode: 0 Status: OK PackageFile: dada2_1.32.0.tar.gz PackageFileSize: 2.505 MiB