Package: dagLogo Version: 1.42.0 Command: rm -rf dagLogo.buildbin-libdir && mkdir dagLogo.buildbin-libdir && F:\biocbuild\bbs-3.19-bioc\R\bin\R.exe CMD INSTALL --build --library=dagLogo.buildbin-libdir dagLogo_1.42.0.tar.gz StartedAt: 2024-06-27 08:04:53 -0400 (Thu, 27 Jun 2024) EndedAt: 2024-06-27 08:05:56 -0400 (Thu, 27 Jun 2024) EllapsedTime: 63.2 seconds RetCode: 0 Status: OK PackageFile: dagLogo_1.42.0.zip PackageFileSize: 2.876 MiB