Package: dagLogo Version: 1.42.0 Command: chmod a+r dagLogo -R && E:\biocbuild\bbs-3.19-bioc\R\bin\R.exe CMD build --keep-empty-dirs --no-resave-data dagLogo StartedAt: 2024-10-16 18:31:22 -0400 (Wed, 16 Oct 2024) EndedAt: 2024-10-16 18:33:27 -0400 (Wed, 16 Oct 2024) EllapsedTime: 125.8 seconds RetCode: 0 Status: OK PackageFile: dagLogo_1.42.0.tar.gz PackageFileSize: 2.487 MiB