Package: dar Version: 1.0.0 Command: /Library/Frameworks/R.framework/Resources/bin/R CMD build --keep-empty-dirs --no-resave-data dar StartedAt: 2024-10-16 18:27:21 -0400 (Wed, 16 Oct 2024) EndedAt: 2024-10-16 18:33:36 -0400 (Wed, 16 Oct 2024) EllapsedTime: 375.6 seconds RetCode: 0 Status: OK PackageFile: dar_1.0.0.tar.gz PackageFileSize: 1.995 MiB