Package: dcGSA Version: 1.32.0 Command: /Library/Frameworks/R.framework/Resources/bin/R CMD check --install=check:dcGSA.install-out.txt --library=/Library/Frameworks/R.framework/Resources/library --no-vignettes --timings dcGSA_1.32.0.tar.gz StartedAt: 2024-10-17 18:50:21 -0400 (Thu, 17 Oct 2024) EndedAt: 2024-10-17 18:51:13 -0400 (Thu, 17 Oct 2024) EllapsedTime: 51.8 seconds RetCode: 0 Status: WARNINGS CheckDir: dcGSA.Rcheck Warnings: 1