Package: dcGSA Version: 1.32.0 Command: E:\biocbuild\bbs-3.19-bioc\R\bin\R.exe CMD INSTALL dcGSA StartedAt: 2024-10-16 16:14:02 -0400 (Wed, 16 Oct 2024) EndedAt: 2024-10-16 16:14:10 -0400 (Wed, 16 Oct 2024) EllapsedTime: 8.4 seconds RetCode: 0 Status: OK