Package: dce Version: 1.12.0 Command: chmod a+r dce -R && E:\biocbuild\bbs-3.19-bioc\R\bin\R.exe CMD build --keep-empty-dirs --no-resave-data dce StartedAt: 2024-10-16 18:32:36 -0400 (Wed, 16 Oct 2024) EndedAt: 2024-10-16 18:36:33 -0400 (Wed, 16 Oct 2024) EllapsedTime: 236.6 seconds RetCode: 0 Status: OK PackageFile: dce_1.12.0.tar.gz PackageFileSize: 1.943 MiB