Package: ddPCRclust Version: 1.24.0 Command: /Library/Frameworks/R.framework/Resources/bin/R CMD INSTALL ddPCRclust StartedAt: 2024-10-16 18:45:53 -0400 (Wed, 16 Oct 2024) EndedAt: 2024-10-16 18:46:07 -0400 (Wed, 16 Oct 2024) EllapsedTime: 14.1 seconds RetCode: 0 Status: OK