Package: debCAM Version: 1.22.0 Command: /Library/Frameworks/R.framework/Resources/bin/R CMD check --install=check:debCAM.install-out.txt --library=/Library/Frameworks/R.framework/Resources/library --no-vignettes --timings debCAM_1.22.0.tar.gz StartedAt: 2024-06-10 12:59:43 -0400 (Mon, 10 Jun 2024) EndedAt: 2024-06-10 13:05:34 -0400 (Mon, 10 Jun 2024) EllapsedTime: 350.8 seconds RetCode: 0 Status: OK CheckDir: debCAM.Rcheck Warnings: 0