Package: debCAM Version: 1.22.0 Command: /home/biocbuild/R/R-beta-2024-04-15_r86425/bin/R CMD check --install=check:debCAM.install-out.txt --library=/home/biocbuild/R/R-beta-2024-04-15_r86425/site-library --no-vignettes --timings debCAM_1.22.0.tar.gz StartedAt: 2024-05-09 06:33:24 -0000 (Thu, 09 May 2024) EndedAt: 2024-05-09 06:38:01 -0000 (Thu, 09 May 2024) EllapsedTime: 277.5 seconds RetCode: 0 Status: OK CheckDir: debCAM.Rcheck Warnings: 0