Package: debCAM Version: 1.22.0 Command: /Library/Frameworks/R.framework/Resources/bin/R CMD build --keep-empty-dirs --no-resave-data debCAM StartedAt: 2024-06-09 16:24:12 -0400 (Sun, 09 Jun 2024) EndedAt: 2024-06-09 16:31:06 -0400 (Sun, 09 Jun 2024) EllapsedTime: 413.5 seconds RetCode: 0 Status: OK PackageFile: debCAM_1.22.0.tar.gz PackageFileSize: 3.73 MiB