Package: debCAM Version: 1.22.0 Command: /Library/Frameworks/R.framework/Resources/bin/R CMD check --install=check:debCAM.install-out.txt --library=/Library/Frameworks/R.framework/Resources/library --no-vignettes --timings debCAM_1.22.0.tar.gz StartedAt: 2024-10-17 03:54:25 -0400 (Thu, 17 Oct 2024) EndedAt: 2024-10-17 04:01:41 -0400 (Thu, 17 Oct 2024) EllapsedTime: 436.4 seconds RetCode: 0 Status: OK CheckDir: debCAM.Rcheck Warnings: 0