Package: debCAM Version: 1.22.0 Command: /home/biocbuild/bbs-3.19-bioc/R/bin/R CMD build --keep-empty-dirs --no-resave-data debCAM StartedAt: 2024-10-16 18:05:45 -0400 (Wed, 16 Oct 2024) EndedAt: 2024-10-16 18:11:58 -0400 (Wed, 16 Oct 2024) EllapsedTime: 372.7 seconds RetCode: 0 Status: OK PackageFile: debCAM_1.22.0.tar.gz PackageFileSize: 3.682 MiB