Package: debCAM Version: 1.22.0 Command: /home/biocbuild/bbs-3.19-bioc/R/bin/R CMD INSTALL debCAM StartedAt: 2024-10-16 16:26:43 -0400 (Wed, 16 Oct 2024) EndedAt: 2024-10-16 16:26:52 -0400 (Wed, 16 Oct 2024) EllapsedTime: 8.8 seconds RetCode: 0 Status: OK