Package: debCAM Version: 1.22.0 Command: rm -rf debCAM.buildbin-libdir && mkdir debCAM.buildbin-libdir && F:\biocbuild\bbs-3.19-bioc\R\bin\R.exe CMD INSTALL --build --library=debCAM.buildbin-libdir debCAM_1.22.0.tar.gz StartedAt: 2024-06-27 08:05:23 -0400 (Thu, 27 Jun 2024) EndedAt: 2024-06-27 08:05:43 -0400 (Thu, 27 Jun 2024) EllapsedTime: 20.6 seconds RetCode: 0 Status: OK PackageFile: debCAM_1.22.0.zip PackageFileSize: 2.832 MiB