Package: debCAM Version: 1.22.0 Command: chmod a+r debCAM -R && F:\biocbuild\bbs-3.19-bioc\R\bin\R.exe CMD build --keep-empty-dirs --no-resave-data debCAM StartedAt: 2024-06-26 18:13:24 -0400 (Wed, 26 Jun 2024) EndedAt: 2024-06-26 18:20:05 -0400 (Wed, 26 Jun 2024) EllapsedTime: 401.6 seconds RetCode: 0 Status: OK PackageFile: debCAM_1.22.0.tar.gz PackageFileSize: 3.398 MiB