Package: debCAM Version: 1.22.0 Command: chmod a+r debCAM -R && E:\biocbuild\bbs-3.19-bioc\R\bin\R.exe CMD build --keep-empty-dirs --no-resave-data debCAM StartedAt: 2024-10-16 18:33:28 -0400 (Wed, 16 Oct 2024) EndedAt: 2024-10-16 18:41:05 -0400 (Wed, 16 Oct 2024) EllapsedTime: 456.5 seconds RetCode: 0 Status: OK PackageFile: debCAM_1.22.0.tar.gz PackageFileSize: 3.398 MiB