Package: debCAM Version: 1.22.0 Command: E:\biocbuild\bbs-3.19-bioc\R\bin\R.exe CMD check --no-multiarch --install=check:debCAM.install-out.txt --library=E:\biocbuild\bbs-3.19-bioc\R\library --no-vignettes --timings debCAM_1.22.0.tar.gz StartedAt: 2024-10-17 00:38:01 -0400 (Thu, 17 Oct 2024) EndedAt: 2024-10-17 00:42:03 -0400 (Thu, 17 Oct 2024) EllapsedTime: 241.8 seconds RetCode: 0 Status: OK CheckDir: debCAM.Rcheck Warnings: 0