Package: decontam Version: 1.24.0 Command: rm -rf decontam.buildbin-libdir && mkdir decontam.buildbin-libdir && /Users/biocbuild/BBS/utils/build-universal.sh decontam_1.24.0.tar.gz /Library/Frameworks/R.framework/Resources/bin/R decontam.buildbin-libdir StartedAt: 2024-10-17 15:59:24 -0400 (Thu, 17 Oct 2024) EndedAt: 2024-10-17 15:59:36 -0400 (Thu, 17 Oct 2024) EllapsedTime: 11.9 seconds RetCode: 0 Status: OK PackageFile: decontam_1.24.0.tgz PackageFileSize: 759.1 KiB