Package: decontam Version: 1.24.0 Command: /home/biocbuild/bbs-3.19-bioc/R/bin/R CMD check --install=check:decontam.install-out.txt --library=/home/biocbuild/bbs-3.19-bioc/R/site-library --timings decontam_1.24.0.tar.gz StartedAt: 2024-10-16 23:33:22 -0400 (Wed, 16 Oct 2024) EndedAt: 2024-10-16 23:34:27 -0400 (Wed, 16 Oct 2024) EllapsedTime: 64.1 seconds RetCode: 0 Status: OK CheckDir: decontam.Rcheck Warnings: 0