Package: decontam Version: 1.24.0 Command: F:\biocbuild\bbs-3.19-bioc\R\bin\R.exe CMD check --no-multiarch --install=check:decontam.install-out.txt --library=F:\biocbuild\bbs-3.19-bioc\R\library --no-vignettes --timings decontam_1.24.0.tar.gz StartedAt: 2024-06-27 00:47:16 -0400 (Thu, 27 Jun 2024) EndedAt: 2024-06-27 00:48:13 -0400 (Thu, 27 Jun 2024) EllapsedTime: 57.0 seconds RetCode: 0 Status: OK CheckDir: decontam.Rcheck Warnings: 0