Package: deconvR Version: 1.10.0 Command: /Library/Frameworks/R.framework/Resources/bin/R CMD build --keep-empty-dirs --no-resave-data deconvR StartedAt: 2024-10-16 18:30:42 -0400 (Wed, 16 Oct 2024) EndedAt: 2024-10-16 18:37:17 -0400 (Wed, 16 Oct 2024) EllapsedTime: 395.0 seconds RetCode: 0 Status: OK PackageFile: deconvR_1.10.0.tar.gz PackageFileSize: 3.789 MiB